BEGIN:VCALENDAR
METHOD:PUBLISH
VERSION:2.0
CALSCALE:GREGORIAN
PRODID:-//NONSGML Sandhills Development\, LLC//NONSGML Sugar Calendar Fe
 eds v3.4.0//EN
X-WR-CALNAME:Baby Lock Basics Cheyenne
X-WR-CALDESC:Sew Vac
X-WR-TIMEZONE:America/Denver
BEGIN:VTIMEZONE
TZID:America/Denver
BEGIN:STANDARD
TZOFFSETFROM:-0600
TZOFFSETTO:-0700
DTSTART:20201101T080000
TZNAME:MST
END:STANDARD
END:VTIMEZONE
BEGIN:VTIMEZONE
TZID:America/Denver
BEGIN:STANDARD
TZOFFSETFROM:-0600
TZOFFSETTO:-0700
DTSTART:20201101T080000
TZNAME:MST
END:STANDARD
END:VTIMEZONE
BEGIN:VEVENT
SUMMARY:Baby Lock Basics Cheyenne
DESCRIPTION:Stop by the store to learn the basics of our Baby Lock machi
 nes!\nGet acquainted with the basics and start on your new creative jour
 ney with Blakeman's!\n\nAlready familiar with your Baby Lock but need a 
 refresher on the basics?\nJoin us for tutorials on the ins and outs of y
 our Baby Lock machine!
URL;VALUE=URI:https://morethanvacsew.com/events/baby-lock-basics-cheyenn
 e/
UID:urn:uuid:bac2feb3-04de-40b6-b49f-9ab789f94638
STATUS:CONFIRMED
ORGANIZER:
DTSTAMP:20260424T040304Z
DTSTART;TZID=America/Denver:20201209T133000
DTEND;TZID=America/Denver:20201209T143000
END:VEVENT
END:VCALENDAR